BEGIN:VCALENDAR
VERSION:2.0
PRODID:-//Drupal iCal API//EN
X-WR-CALNAME:Calendar of Events
X-WR-TIMEZONE:America/Chicago
BEGIN:VTIMEZONE
TZID:America/Chicago
X-LIC-LOCATION:America/Chicago
BEGIN:DAYLIGHT
TZNAME:CDT
TZOFFSETFROM:-0600
TZOFFSETTO:-0500
DTSTART:20250309T080000
END:DAYLIGHT
BEGIN:STANDARD
TZNAME:CST
TZOFFSETFROM:-0500
TZOFFSETTO:-0600
DTSTART:20241103T070000
END:STANDARD
END:VTIMEZONE
BEGIN:VEVENT
UID:23bdd625-6c67-4328-b03c-24d13c72dd33
DTSTART;TZID=America/Chicago:20250908T153000
SEQUENCE:0
TRANSP:TRANSPARENT
DTEND;TZID=America/Chicago:20250908T163000
SUMMARY:CAC Meeting
CLASS:PUBLIC
DESCRIPTION:Body \n\nAll CAC Info here [https://bearcreek.austinschools.org
 /about-us/cac]\n\n 
DTSTAMP:20260421T082814Z
END:VEVENT
END:VCALENDAR