BEGIN:VCALENDAR
VERSION:2.0
PRODID:-//Drupal iCal API//EN
X-WR-CALNAME:Calendar of Events
X-WR-TIMEZONE:America/Chicago
BEGIN:VTIMEZONE
TZID:America/Chicago
X-LIC-LOCATION:America/Chicago
BEGIN:DAYLIGHT
TZNAME:CDT
TZOFFSETFROM:-0600
TZOFFSETTO:-0500
DTSTART:20260308T080000
END:DAYLIGHT
BEGIN:STANDARD
TZNAME:CST
TZOFFSETFROM:-0500
TZOFFSETTO:-0600
DTSTART:20251102T070000
END:STANDARD
END:VTIMEZONE
BEGIN:VEVENT
UID:056aa7ec-e610-4411-9e35-801cbe3492d3
DTSTART;TZID=America/Chicago:20260417T080900
SEQUENCE:0
TRANSP:TRANSPARENT
DTEND;TZID=America/Chicago:20260417T130900
SUMMARY:2nd Grade Field Trip: Texas Science & Natural Museum
CLASS:PUBLIC
DESCRIPTION:Body \n\n2nd Grade Field Trip: Texas Science & Natural Museum
DTSTAMP:20260421T094543Z
END:VEVENT
END:VCALENDAR